BEGIN:VCALENDAR
VERSION:2.0
PRODID:-//Wenatchee Valley Sports - ECPv6.6.4.2//NONSGML v1.0//EN
CALSCALE:GREGORIAN
METHOD:PUBLISH
X-WR-CALNAME:Wenatchee Valley Sports
X-ORIGINAL-URL:https://wenatcheevalleysports.com
X-WR-CALDESC:Events for Wenatchee Valley Sports
REFRESH-INTERVAL;VALUE=DURATION:PT1H
X-Robots-Tag:noindex
X-PUBLISHED-TTL:PT1H
BEGIN:VTIMEZONE
TZID:America/Los_Angeles
BEGIN:DAYLIGHT
TZOFFSETFROM:-0800
TZOFFSETTO:-0700
TZNAME:PDT
DTSTART:20260308T100000
END:DAYLIGHT
BEGIN:STANDARD
TZOFFSETFROM:-0700
TZOFFSETTO:-0800
TZNAME:PST
DTSTART:20261101T090000
END:STANDARD
END:VTIMEZONE
BEGIN:VEVENT
DTSTART;VALUE=DATE:20260424
DTEND;VALUE=DATE:20260425
DTSTAMP:20260420T054309
CREATED:20260220T201431Z
LAST-MODIFIED:20260220T201431Z
UID:52429-1776988800-1777075199@wenatcheevalleysports.com
SUMMARY:WVSO - CARS Tour Event Practice
DESCRIPTION:Classes\n\n\nCARS TOUR WEST Pro Late Models\nKnutson General Contracting Bandoleros\nAngels Bail Bond Legends\nNorthwest Focus Midgets
URL:https://wenatcheevalleysports.com/event/wvso-cars-tour-event-practice/
LOCATION:Wenatchee Valley Super Oval\, 2850 Gun Club Road\, East Wenatchee\, WA\, 98802\, United States
CATEGORIES:Auto Racing
END:VEVENT
BEGIN:VEVENT
DTSTART;VALUE=DATE:20260425
DTEND;VALUE=DATE:20260426
DTSTAMP:20260420T054309
CREATED:20260220T201523Z
LAST-MODIFIED:20260220T201523Z
UID:52430-1777075200-1777161599@wenatcheevalleysports.com
SUMMARY:WVSO - Tree Top 150 Leonard Evans Memorial CARS TOUR
DESCRIPTION:Classes\n\n\nCARS TOUR WEST Pro Late Models\nKnutson General Contracting Bandoleros\nAngels Bail Bond Legends\nNorthwest Focus Midgets
URL:https://wenatcheevalleysports.com/event/wvso-tree-top-150-leonard-evans-memorial-cars-tour/
LOCATION:Wenatchee Valley Super Oval\, 2850 Gun Club Road\, East Wenatchee\, WA\, 98802\, United States
CATEGORIES:Auto Racing
END:VEVENT
END:VCALENDAR