BEGIN:VCALENDAR
VERSION:2.0
PRODID:-//Wenatchee Valley Sports - ECPv6.6.4.2//NONSGML v1.0//EN
CALSCALE:GREGORIAN
METHOD:PUBLISH
X-ORIGINAL-URL:https://wenatcheevalleysports.com
X-WR-CALDESC:Events for Wenatchee Valley Sports
REFRESH-INTERVAL;VALUE=DURATION:PT1H
X-Robots-Tag:noindex
X-PUBLISHED-TTL:PT1H
BEGIN:VTIMEZONE
TZID:America/Los_Angeles
BEGIN:DAYLIGHT
TZOFFSETFROM:-0800
TZOFFSETTO:-0700
TZNAME:PDT
DTSTART:20250309T100000
END:DAYLIGHT
BEGIN:STANDARD
TZOFFSETFROM:-0700
TZOFFSETTO:-0800
TZNAME:PST
DTSTART:20251102T090000
END:STANDARD
END:VTIMEZONE
BEGIN:VEVENT
DTSTART;VALUE=DATE:20250906
DTEND;VALUE=DATE:20250907
DTSTAMP:20260423T030408
CREATED:20250312T191224Z
LAST-MODIFIED:20250805T163527Z
UID:52157-1757116800-1757203199@wenatcheevalleysports.com
SUMMARY:WVSO - Bump 2 Pass Boat Race Destruction Night
DESCRIPTION:Bump 2 Pass Boat Race Destruction Night\n\n\n\n\nEvent Times\n\n\nGates Open4:30 PM\nRacing Starts6:00 PM\n\n\n\n\n\n\n\n\nClasses\n\n\nRockstar Energy B-Mods\nPlumb Perfect Roadrunners\nApple Valley Pumping Crown Vic Stocks\nJohnson Electric Bump 2 Pass\nBump 2 Pass Boat Race Destruction\nNorthwest Vintage Modifieds\nB&T Towing Youth Roadrunners
URL:https://wenatcheevalleysports.com/event/wvso-bump-2-pass-boat-race-destruction-night/
LOCATION:Wenatchee Valley Super Oval\, 2850 Gun Club Road\, East Wenatchee\, WA\, 98802\, United States
CATEGORIES:Auto Racing
END:VEVENT
END:VCALENDAR