BEGIN:VCALENDAR
VERSION:2.0
PRODID:-//Wenatchee Valley Sports - ECPv6.6.4.2//NONSGML v1.0//EN
CALSCALE:GREGORIAN
METHOD:PUBLISH
X-WR-CALNAME:Wenatchee Valley Sports
X-ORIGINAL-URL:https://wenatcheevalleysports.com
X-WR-CALDESC:Events for Wenatchee Valley Sports
REFRESH-INTERVAL;VALUE=DURATION:PT1H
X-Robots-Tag:noindex
X-PUBLISHED-TTL:PT1H
BEGIN:VTIMEZONE
TZID:America/Los_Angeles
BEGIN:DAYLIGHT
TZOFFSETFROM:-0800
TZOFFSETTO:-0700
TZNAME:PDT
DTSTART:20250309T100000
END:DAYLIGHT
BEGIN:STANDARD
TZOFFSETFROM:-0700
TZOFFSETTO:-0800
TZNAME:PST
DTSTART:20251102T090000
END:STANDARD
END:VTIMEZONE
BEGIN:VEVENT
DTSTART;VALUE=DATE:20250206
DTEND;VALUE=DATE:20250207
DTSTAMP:20260422T060240
CREATED:20241024T160338Z
LAST-MODIFIED:20241024T160338Z
UID:52047-1738800000-1738886399@wenatcheevalleysports.com
SUMMARY:Thursday Night Drags - MRST
DESCRIPTION:Thursday Night Drags\n\n\n\n\n\n\n\n2025 Thursday Night Drags\n\nHow It works:\n\n4 – 7 person teams\nSkiers and Snowboarders Welcome!\n$89 per person\nNo race experience necessary! Ages 18 and older can join!\nRacers must be at least 18 years old (age as of Jan. 30\, 2025)\nIndividuals welcome! If you do not already have a team\, we will make one for you!\n\nSubmit your team’s four rostered competitors each week. All team members can race for a time! However\, only the four rostered competitors of your team will compete for race points for that week.
URL:https://wenatcheevalleysports.com/event/thursday-night-drags-mrst-2/
LOCATION:Mission Ridge\, United States
CATEGORIES:Skiing,Snowboarding
ORGANIZER;CN="MRST":MAILTO:ysl@mrst.us
END:VEVENT
END:VCALENDAR