BEGIN:VCALENDAR
VERSION:2.0
PRODID:-//Wenatchee Valley Sports - ECPv6.6.4.2//NONSGML v1.0//EN
CALSCALE:GREGORIAN
METHOD:PUBLISH
X-WR-CALNAME:Wenatchee Valley Sports
X-ORIGINAL-URL:https://wenatcheevalleysports.com
X-WR-CALDESC:Events for Wenatchee Valley Sports
REFRESH-INTERVAL;VALUE=DURATION:PT1H
X-Robots-Tag:noindex
X-PUBLISHED-TTL:PT1H
BEGIN:VTIMEZONE
TZID:America/Los_Angeles
BEGIN:DAYLIGHT
TZOFFSETFROM:-0800
TZOFFSETTO:-0700
TZNAME:PDT
DTSTART:20230312T100000
END:DAYLIGHT
BEGIN:STANDARD
TZOFFSETFROM:-0700
TZOFFSETTO:-0800
TZNAME:PST
DTSTART:20231105T090000
END:STANDARD
END:VTIMEZONE
BEGIN:VEVENT
DTSTART;VALUE=DATE:20230623
DTEND;VALUE=DATE:20230626
DTSTAMP:20260424T012326
CREATED:20230410T193231Z
LAST-MODIFIED:20230410T193231Z
UID:51490-1687478400-1687737599@wenatcheevalleysports.com
SUMMARY:Starlight Swim Meet
DESCRIPTION:Local Hosted meet 3 days with teams from the PNW \nContact: Carolyn Petersen at coachcarolyn@velocity-swimming.com or 5098814863
URL:https://wenatcheevalleysports.com/event/starlight-swim-meet/
LOCATION:Wenatchee City Pool\, 220 South Fuller Street\, Wenatchee\, WA\, 98801\, United States
END:VEVENT
BEGIN:VEVENT
DTSTART;TZID=America/Los_Angeles:20230625T070000
DTEND;TZID=America/Los_Angeles:20230625T160000
DTSTAMP:20260424T012326
CREATED:20230524T190330Z
LAST-MODIFIED:20230524T190330Z
UID:51571-1687676400-1687708800@wenatcheevalleysports.com
SUMMARY:Mission Bomber Mnt Bike Race
DESCRIPTION:June 25 @ 7:00 am – 4:00 pm\n\n\n\nLocation: Mission Ridge Ski and Board Resort \nEvent by-Dirt Abides Mnt Bike Series \nCross country mountain bike race/ride for all ages and abilities! \nTo register or get more information click here.
URL:https://wenatcheevalleysports.com/event/mission-bomber-mnt-bike-race/
LOCATION:Mission Ridge Ski & Board Resort\, 7500 Mission Ridge Road\, Wenatchee\, WA\, 98801\, United States
END:VEVENT
END:VCALENDAR